BEGIN:VCALENDAR
VERSION:2.0
PRODID:-//Rose Alchemy - ECPv5.16.3.1//NONSGML v1.0//EN
CALSCALE:GREGORIAN
METHOD:PUBLISH
X-ORIGINAL-URL:https://www.rosealchemy.com
X-WR-CALDESC:Events for Rose Alchemy
REFRESH-INTERVAL;VALUE=DURATION:PT1H
X-Robots-Tag:noindex
X-PUBLISHED-TTL:PT1H
BEGIN:VTIMEZONE
TZID:UTC
BEGIN:STANDARD
TZOFFSETFROM:+0000
TZOFFSETTO:+0000
TZNAME:UTC
DTSTART:20190101T000000
END:STANDARD
END:VTIMEZONE
BEGIN:VEVENT
DTSTART;TZID=UTC:20190618T080000
DTEND;TZID=UTC:20190630T235500
DTSTAMP:20260424T172942
CREATED:20190618T133817Z
LAST-MODIFIED:20190619T090741Z
UID:15211-1560844800-1561938900@www.rosealchemy.com
SUMMARY:Rose Heart Healing and Divine Feminine Wisdom sessions - on offer till end June
DESCRIPTION:Special offer for personal sessions booked before the end June – valid till end August. \nI offer a wonderful weave of Rose Alchemy\, Pranic Healing and Divine Feminine Rose Heart wisdom helping you bring even greater connection and Higher Soul Self alignment to your path now. We can take time to explore whats calling for attention and its root and gift of ‘Gold’ for your Soul journey. I can tune in and see and scan your energy centres and auric field to help you clear residual old patterns\, release cordings and attachments.  I will then balance and recharge your energy and raise your vibration to activate a new vision and Inner Template for your path of Self Mastery in these fast changing times. \nStability\, connection and security are within you. Your heart is your powerful attractor factor… the clearer and lighter your heart is\, the easier is it to attract optimum wellbeing\, prosperity and healthier relationships and the feelings and happiness you would wish for your life. \nThe perfect opportunity to experience a session with Sandy over zoom or Skype or if you are local to Hampshire Uk\, a 1-2-1 in the Rosy Temple. \nPer session of approx 1 hour duration £75 instead of the usual £108 \nPer 3 sessions £225 instead of £295 \nTo book and purchase a session please visit the shop.Purchase NowPurchase Now
URL:https://www.rosealchemy.com/event/rose-healing-and-mentoring-sessions/
LOCATION:Online where ever you are
ATTACH;FMTTYPE=image/jpeg:https://www.rosealchemy.com/wp-content/uploads/2017/10/IMG_8887-med-edit-for-web-500-x-375.jpg
END:VEVENT
BEGIN:VEVENT
DTSTART;TZID=UTC:20190629T100000
DTEND;TZID=UTC:20190629T170000
DTSTAMP:20260424T172942
CREATED:20190403T150515Z
LAST-MODIFIED:20190504T110757Z
UID:14974-1561802400-1561827600@www.rosealchemy.com
SUMMARY:Space Alchemy - Space Clearing Masterclass
DESCRIPTION:A day packed with insight and understanding of the nature of the energies that create the signature note of your home. Why you live where you do. \nWe will start of by exploring your relationship to your personal space and how that is affecting you both positively and negatively. \nI will be sharing tools and techniques developed over the past 20 years of my journey with hundreds of consultations in the Uk\, Europe and the USA. See my website www.SandyHumby.com for consultation stories and feedback. \nYou will leave with a far greater understanding of the connection of your story and your home and its attractor factor for you… plus tools and techniques to identify and release old energies and heal and rebalance the very heart of your home. \nI provide a list vegetarian lunch with GF options and all refreshments. \nTo book and purchase this course please visit the shop.Purchase NowPurchase Now
URL:https://www.rosealchemy.com/event/space-alchemy-space-clearing-masterclass/
LOCATION:The Rosy Temple\, Brook\, New Forest SO43
ATTACH;FMTTYPE=image/jpeg:https://www.rosealchemy.com/wp-content/uploads/2018/01/IMG_88921-web.jpg
END:VEVENT
END:VCALENDAR