BEGIN:VCALENDAR
VERSION:2.0
PRODID:-//Rose Alchemy - ECPv5.16.3.1//NONSGML v1.0//EN
CALSCALE:GREGORIAN
METHOD:PUBLISH
X-ORIGINAL-URL:https://www.rosealchemy.com
X-WR-CALDESC:Events for Rose Alchemy
REFRESH-INTERVAL;VALUE=DURATION:PT1H
X-Robots-Tag:noindex
X-PUBLISHED-TTL:PT1H
BEGIN:VTIMEZONE
TZID:UTC
BEGIN:STANDARD
TZOFFSETFROM:+0000
TZOFFSETTO:+0000
TZNAME:UTC
DTSTART:20190101T000000
END:STANDARD
END:VTIMEZONE
BEGIN:VEVENT
DTSTART;TZID=UTC:20190721T100000
DTEND;TZID=UTC:20190721T123000
DTSTAMP:20260424T144712
CREATED:20190403T144234Z
LAST-MODIFIED:20190713T140754Z
UID:14971-1563703200-1563712200@www.rosealchemy.com
SUMMARY:A celebration of The Magdalene Within
DESCRIPTION:A beautiful morning exploring the message of Mary Magdalene and her feast/celebration day on 22nd July… What was her story ? and the story of the Mary lineage? what was her connection to the symbolism of the Black Madonnas? … and why is that so relevant for the rising voice of the Sacred Feminine. \nWe will explore her message for each of us personally and also as a collective in these intense times of evolving consciousness and the closing of the old paradigm of wounded Masculine power through the lens of the Roses. \nPlease note this is now a morning event from 10am till 12.30 If you would like to bring your own lunch\, you would welcome to explore the beautiful landscape of the New Forest here and join us back again in the Rosy Temple space at 2pm for a sound journey with Rj and his amazing healing bowls. \nTo book and purchase this morning event please visit the shop.Purchase NowPurchase Now
URL:https://www.rosealchemy.com/event/a-celebration-of-the-magdalene-within/
LOCATION:The Rosy Temple\, Brook\, New Forest SO43
ATTACH;FMTTYPE=image/jpeg:https://www.rosealchemy.com/wp-content/uploads/2016/06/the-way-of-the-rose-pic-2.jpg
END:VEVENT
BEGIN:VEVENT
DTSTART;TZID=UTC:20190721T140000
DTEND;TZID=UTC:20190721T160000
DTSTAMP:20260424T144712
CREATED:20190626T191827Z
LAST-MODIFIED:20190713T120250Z
UID:15238-1563717600-1563724800@www.rosealchemy.com
SUMMARY:Sacred Sounds and Roses - a magical healing journey with Rj and Sandy
DESCRIPTION:Come and join us for an afternoon of beautiful uplifting and healing Sounds with Rj and Sandy \nWe will be weaving Rj's Sweeping Sounds and his magical Tibetan Bowls and Bells with my Alchemy Crystal Bowls and Birch Sounding Bowl plus of course beautiful and powerful guidance and insight from the Roses on the journey. \nFeedback from previous attendees… \n'Thank you for a very special afternoon – LOVED it. Surpassed all expectations (which were already pretty high.)' C \n'Wonderful afternoon Sandy and RJ\, amazing sound healing\, thanks to you both!! Pxx \n'It was just what I needed' S \n\n\n\n'Truly was a beautiful privilege to be there today' B xxx\n\n\n\n\n\n\n\n\n\n\n\n\nTo book and purchase this afternoon please visit the shop.Purchase NowPurchase Now
URL:https://www.rosealchemy.com/event/sacred-sounds-and-roses-a-magical-healing-journey-with-rj-and-sandy/
LOCATION:The Rosy Temple\, Brook\, New Forest SO43
ATTACH;FMTTYPE=image/jpeg:https://www.rosealchemy.com/wp-content/uploads/2019/04/IMG_4962web.jpg
END:VEVENT
END:VCALENDAR