BEGIN:VCALENDAR
VERSION:2.0
PRODID:-//Rose Alchemy - ECPv5.16.3.1//NONSGML v1.0//EN
CALSCALE:GREGORIAN
METHOD:PUBLISH
X-WR-CALNAME:Rose Alchemy
X-ORIGINAL-URL:https://www.rosealchemy.com
X-WR-CALDESC:Events for Rose Alchemy
REFRESH-INTERVAL;VALUE=DURATION:PT1H
X-Robots-Tag:noindex
X-PUBLISHED-TTL:PT1H
BEGIN:VTIMEZONE
TZID:UTC
BEGIN:STANDARD
TZOFFSETFROM:+0000
TZOFFSETTO:+0000
TZNAME:UTC
DTSTART:20190101T000000
END:STANDARD
END:VTIMEZONE
BEGIN:VEVENT
DTSTART;TZID=UTC:20190731T190000
DTEND;TZID=UTC:20190731T210000
DTSTAMP:20260424T132020
CREATED:20190522T140541Z
LAST-MODIFIED:20190605T111941Z
UID:15155-1564599600-1564606800@www.rosealchemy.com
SUMMARY:Rose Sister Inner Circle
DESCRIPTION:Our monthly sharing and caring circle gathering \nHealing\, meditation and Rosy magic \nFull location details on rsvp
URL:https://www.rosealchemy.com/event/rose-sister-inner-circle-11/
LOCATION:The Rosy Temple\, Brook\, New Forest SO43
ATTACH;FMTTYPE=image/jpeg:https://www.rosealchemy.com/wp-content/uploads/2018/08/rose-circle-web.jpg
END:VEVENT
END:VCALENDAR