BEGIN:VCALENDAR
VERSION:2.0
PRODID:-//Rose Alchemy - ECPv5.16.3.1//NONSGML v1.0//EN
CALSCALE:GREGORIAN
METHOD:PUBLISH
X-ORIGINAL-URL:https://www.rosealchemy.com
X-WR-CALDESC:Events for Rose Alchemy
REFRESH-INTERVAL;VALUE=DURATION:PT1H
X-Robots-Tag:noindex
X-PUBLISHED-TTL:PT1H
BEGIN:VTIMEZONE
TZID:UTC
BEGIN:STANDARD
TZOFFSETFROM:+0000
TZOFFSETTO:+0000
TZNAME:UTC
DTSTART:20190101T000000
END:STANDARD
END:VTIMEZONE
BEGIN:VEVENT
DTSTART;TZID=UTC:20191207T100000
DTEND;TZID=UTC:20191207T170000
DTSTAMP:20260424T073827
CREATED:20191011T133739Z
LAST-MODIFIED:20191011T160211Z
UID:15408-1575712800-1575738000@www.rosealchemy.com
SUMMARY:Space Alchemy - Clearing and aligning your home for 2020 energies and new beginnings
DESCRIPTION:A magical day exploring the nature of the Spaces we call home and the energy that makes up the note that enables us to feel connected and nourished and ‘at home’ \nYou will have the opportunity to tune into your personal space from the high frequency energy of the Rosy Temple and explore through a new lens messages that your space may have to offer. What might your home reveal? Are you aware of the Heart of your Home? \nOur Inner Temple (our hearts) and our Outer Temple (our homes) are intimately connected and the calling at this time is to have high vibe clear and aligned space to support our journey to ultimate wellbeing on all levels. \nThe day will include sharing a protocol for reading the energy of your home and using the tools and techniques I have worked with for the past 20 years with hundred of clients. \nPerfect for creating great space for your home and life. \nIncluded are refreshments and a homemade warming vegan soup and bread ( gf catered for) \nTo book and purchase this day please visit the shop.Purchase NowPurchase Now
URL:https://www.rosealchemy.com/event/space-alchemy-clearing-and-aligning-your-home-for-2020-energies/
LOCATION:The Rosy Temple\, Brook\, New Forest SO43
ATTACH;FMTTYPE=image/jpeg:https://www.rosealchemy.com/wp-content/uploads/2018/01/IMG_88921-web.jpg
END:VEVENT
END:VCALENDAR