BEGIN:VCALENDAR
VERSION:2.0
PRODID:-//Rose Alchemy - ECPv5.16.3.1//NONSGML v1.0//EN
CALSCALE:GREGORIAN
METHOD:PUBLISH
X-ORIGINAL-URL:https://www.rosealchemy.com
X-WR-CALDESC:Events for Rose Alchemy
REFRESH-INTERVAL;VALUE=DURATION:PT1H
X-Robots-Tag:noindex
X-PUBLISHED-TTL:PT1H
BEGIN:VTIMEZONE
TZID:UTC
BEGIN:STANDARD
TZOFFSETFROM:+0000
TZOFFSETTO:+0000
TZNAME:UTC
DTSTART:20200101T000000
END:STANDARD
END:VTIMEZONE
BEGIN:VEVENT
DTSTART;TZID=UTC:20200204T190000
DTEND;TZID=UTC:20200225T203000
DTSTAMP:20260424T051540
CREATED:20200118T163620Z
LAST-MODIFIED:20200118T165158Z
UID:15705-1580842800-1582662600@www.rosealchemy.com
SUMMARY:2020 Rose 1 - Online Live
DESCRIPTION:This is your first step in deepening your connection to the wonderful Rose Alchemy Roses. \nIt is an Alchemical path of opening to messages that the Roses whisper to the Heart. \nClasses start Tuesday 4th February 2020… and are held on Zoom technology. \nOn booking you will receive a link for the 4 x webinar series that makes up Rose 1. \n4th Feb\, 11th Feb\, 18th Feb\, 25th Feb. 7pm-8.30pm UK/ 2pm-3.30pm EST \nAll classes are recorded and sent to you with PDF handouts. \nFull details of this class can be found on the Rose classes online page Rose 1 class \nor by clicking the link below to connect to the shop. \nTo book and purchase this course please visit the shop.Purchase NowPurchase Now
URL:https://www.rosealchemy.com/event/2020-rose-1-online-live/
LOCATION:Online where ever you are
ATTACH;FMTTYPE=image/jpeg:https://www.rosealchemy.com/wp-content/uploads/2016/09/rose-class-1-online.jpg
END:VEVENT
END:VCALENDAR