BEGIN:VCALENDAR
VERSION:2.0
PRODID:-//Rose Alchemy - ECPv5.16.3.1//NONSGML v1.0//EN
CALSCALE:GREGORIAN
METHOD:PUBLISH
X-ORIGINAL-URL:https://www.rosealchemy.com
X-WR-CALDESC:Events for Rose Alchemy
REFRESH-INTERVAL;VALUE=DURATION:PT1H
X-Robots-Tag:noindex
X-PUBLISHED-TTL:PT1H
BEGIN:VTIMEZONE
TZID:UTC
BEGIN:STANDARD
TZOFFSETFROM:+0000
TZOFFSETTO:+0000
TZNAME:UTC
DTSTART:20200101T000000
END:STANDARD
END:VTIMEZONE
BEGIN:VEVENT
DTSTART;TZID=UTC:20200609T190000
DTEND;TZID=UTC:20200707T200000
DTSTAMP:20260424T074822
CREATED:20200406T155511Z
LAST-MODIFIED:20200406T160358Z
UID:15946-1591729200-1594152000@www.rosealchemy.com
SUMMARY:2020 Rose 4 Online
DESCRIPTION:The Rose BaGua \nBa Gua is a Feng Shui term describing a box of 9 squares each of which contain an aspect of life. Traditionally this square box template is laid over the footprint of your house or room to ascertain optimum placement for objects and colour to enhance life relating to that area. \nThe Rose Ba Gua is about your Inner Feng Shui\, your Inner Temple Space and how you relate from your heart to those different aspects of your self expression. This class is a wonderful way of exploring through the lens of the Roses what that aspect of your life is calling for by way of balance or healing. \nThe work online is shared with a Pdf Workbook and with an opportunity for live Q&A after the webinar. \nA recording of the webinar will be available the day following the live webinar. \n \nTo book and purchase this course please visit the shop.Purchase NowPurchase Now
URL:https://www.rosealchemy.com/event/2020-rose-4-online/
LOCATION:Online where ever you are
ATTACH;FMTTYPE=image/jpeg:https://www.rosealchemy.com/wp-content/uploads/2016/11/rose-class-4-online.jpg
END:VEVENT
END:VCALENDAR