BEGIN:VCALENDAR
VERSION:2.0
PRODID:-//Rose Alchemy - ECPv5.16.3.1//NONSGML v1.0//EN
CALSCALE:GREGORIAN
METHOD:PUBLISH
X-ORIGINAL-URL:https://www.rosealchemy.com
X-WR-CALDESC:Events for Rose Alchemy
REFRESH-INTERVAL;VALUE=DURATION:PT1H
X-Robots-Tag:noindex
X-PUBLISHED-TTL:PT1H
BEGIN:VTIMEZONE
TZID:UTC
BEGIN:STANDARD
TZOFFSETFROM:+0000
TZOFFSETTO:+0000
TZNAME:UTC
DTSTART:20200101T000000
END:STANDARD
END:VTIMEZONE
BEGIN:VEVENT
DTSTART;TZID=UTC:20200721T190000
DTEND;TZID=UTC:20200818T200000
DTSTAMP:20260424T163046
CREATED:20200701T090928Z
LAST-MODIFIED:20200702T105017Z
UID:16097-1595358000-1597780800@www.rosealchemy.com
SUMMARY:Rose 5 - Rose Ma
DESCRIPTION:A 5 week online programme exploring the Rose Ma Roses. \nThese beautiful energies take us on a journey to explore the qualities of the Awakened and empowered Divine Feminine Heartfield in both men and women \nThe class comes with a workbook and is recorded so that even if you are not able to make the class live you will be able to work with the Roses at your own pace. \nWeek 1 \nOverview and Rose Ma 1 and Rose Ma 2…  I AM Magnetic and I AM Abundant \nWeek 2 \nRose Ma 3 and Rose Ma 4… I AM Inner Strength and I AM Nurturing \nWeek 3 \nRose Ma 5 and Rose Ma 6… I AM Wisdom and I AM Transformation \nWeek 4 \nRose Ma 7 and Rose Ma 8… I AM Receptive and I AM Creative \nWeek 5 \nRose Ma 9\, Rose Ma 10 and Rose Ma 11… I AM Unconditional LOVE\, I AM Compassion\, I AM Protector \nThis is a powerful path of connecting with your own Rose Heart and and embodying each of these frequencies and feeling them activate within. \nTo book and purchase this course please visit the shop.Purchase NowPurchase Now
URL:https://www.rosealchemy.com/event/rose-5-rose-ma/
LOCATION:Online event
ATTACH;FMTTYPE=image/jpeg:https://www.rosealchemy.com/wp-content/uploads/2016/11/rose-class-5-online.jpg
END:VEVENT
END:VCALENDAR