BEGIN:VCALENDAR
VERSION:2.0
PRODID:-//Rose Alchemy - ECPv5.16.3.1//NONSGML v1.0//EN
CALSCALE:GREGORIAN
METHOD:PUBLISH
X-ORIGINAL-URL:https://www.rosealchemy.com
X-WR-CALDESC:Events for Rose Alchemy
REFRESH-INTERVAL;VALUE=DURATION:PT1H
X-Robots-Tag:noindex
X-PUBLISHED-TTL:PT1H
BEGIN:VTIMEZONE
TZID:UTC
BEGIN:STANDARD
TZOFFSETFROM:+0000
TZOFFSETTO:+0000
TZNAME:UTC
DTSTART:20190101T000000
END:STANDARD
END:VTIMEZONE
BEGIN:VEVENT
DTSTART;TZID=UTC:20190828T190000
DTEND;TZID=UTC:20190828T210000
DTSTAMP:20260424T115947
CREATED:20190801T155104Z
LAST-MODIFIED:20190801T155104Z
UID:15288-1567018800-1567026000@www.rosealchemy.com
SUMMARY:Rose Sister Inner Circle
DESCRIPTION:Our monthly Caring and Sharing circle at The Rosy Temple
URL:https://www.rosealchemy.com/event/rose-sister-inner-circle-12/
LOCATION:The Rosy Temple\, Brook\, New Forest SO43
ATTACH;FMTTYPE=image/jpeg:https://www.rosealchemy.com/wp-content/uploads/2018/08/rose-circle-web.jpg
END:VEVENT
END:VCALENDAR