BEGIN:VCALENDAR
VERSION:2.0
PRODID:-//Rose Alchemy - ECPv5.16.3.1//NONSGML v1.0//EN
CALSCALE:GREGORIAN
METHOD:PUBLISH
X-WR-CALNAME:Rose Alchemy
X-ORIGINAL-URL:https://www.rosealchemy.com
X-WR-CALDESC:Events for Rose Alchemy
REFRESH-INTERVAL;VALUE=DURATION:PT1H
X-Robots-Tag:noindex
X-PUBLISHED-TTL:PT1H
BEGIN:VTIMEZONE
TZID:UTC
BEGIN:STANDARD
TZOFFSETFROM:+0000
TZOFFSETTO:+0000
TZNAME:UTC
DTSTART:20190101T000000
END:STANDARD
END:VTIMEZONE
BEGIN:VEVENT
DTSTART;TZID=UTC:20191103T140000
DTEND;TZID=UTC:20191103T160000
DTSTAMP:20260424T073529
CREATED:20190921T130238Z
LAST-MODIFIED:20191011T130154Z
UID:15367-1572789600-1572796800@www.rosealchemy.com
SUMMARY:Sacred Sounds and Rose with Rj and Sandy
DESCRIPTION:Join us for sound journeys with beautiful Alchemy bowls\, Tibetan bowls\, bells and gong with a beautiful Rose meditation in the high vibe space of the Rosy Temple in the heart of the New Forest. \n\n\nRj and Sandy weave magical sounds and the wisdom of the Roses to bring you connection with your true Self and Inner Peace and Heart coherence within.\n\n\nJoin us for a beautiful afternoon of tea and time for self nurture and stillness.\n\n\n£20 including refreshments.\n\n\nTo book and purchase this afternoon please visit the shop.Purchase NowPurchase Now
URL:https://www.rosealchemy.com/event/sacred-sounds-and-rose-with-rj-and-sandy/
LOCATION:The Rosy Temple\, Brook\, New Forest SO43
ATTACH;FMTTYPE=image/jpeg:https://www.rosealchemy.com/wp-content/uploads/2019/04/IMG_4962web.jpg
END:VEVENT
BEGIN:VEVENT
DTSTART;TZID=UTC:20191120T190000
DTEND;TZID=UTC:20191120T210000
DTSTAMP:20260424T073529
CREATED:20191011T161317Z
LAST-MODIFIED:20191011T161904Z
UID:15415-1574276400-1574283600@www.rosealchemy.com
SUMMARY:Rose Sister Inner Circle - Rosy Temple
DESCRIPTION:Our monthly caring and sharing circle
URL:https://www.rosealchemy.com/event/rose-sister-inner-circle-rosy-temple/
LOCATION:The Rosy Temple\, Brook\, New Forest SO43
ATTACH;FMTTYPE=image/jpeg:https://www.rosealchemy.com/wp-content/uploads/2018/08/rose-circle-web.jpg
END:VEVENT
END:VCALENDAR