BEGIN:VCALENDAR
VERSION:2.0
PRODID:-//Rose Alchemy - ECPv5.16.3.1//NONSGML v1.0//EN
CALSCALE:GREGORIAN
METHOD:PUBLISH
X-WR-CALNAME:Rose Alchemy
X-ORIGINAL-URL:https://www.rosealchemy.com
X-WR-CALDESC:Events for Rose Alchemy
REFRESH-INTERVAL;VALUE=DURATION:PT1H
X-Robots-Tag:noindex
X-PUBLISHED-TTL:PT1H
BEGIN:VTIMEZONE
TZID:UTC
BEGIN:STANDARD
TZOFFSETFROM:+0000
TZOFFSETTO:+0000
TZNAME:UTC
DTSTART:20190101T000000
END:STANDARD
END:VTIMEZONE
BEGIN:VEVENT
DTSTART;TZID=UTC:20191201T100000
DTEND;TZID=UTC:20191201T163000
DTSTAMP:20260424T062035
CREATED:20191011T125713Z
LAST-MODIFIED:20191011T131921Z
UID:15397-1575194400-1575217800@www.rosealchemy.com
SUMMARY:2020 Visioning - Retreat Day in the Rosy Temple
DESCRIPTION:A beautiful retreat day in the Rosy Temple space and time to feel into your unique passion and path for this upcoming period and through the intense and life accelerating energies of the Saturn/Pluto conjunction 12th January 2020 ( a once in 507 years event). \n2020 – 2030 holds the frequency of Creative Visioning and Activation that brings forward in manifested form our Inner Work and Mastery thus far. The past 20 year path of deep healing into wholeness now shifts up a gear!… are you ready? \nSo… What is your heartfelt calling now? What lights you up? \nThrough the lens of the Roses and the Rose Ba Gua we will explore key areas of life expression that bring focus to how you want to feel about yourself and your life. \nThis is the path of magnetic attraction through the heart. What do you wish to energise and call forward? \nThe day will include circle work\, creative processes\, journalling\, gentle exercises\, breath work\, meditations all to inspire you and open you to a deeper connection to your inner knowing. \nWe will create individual Rose grids to activate with words and images. \nThis is small group work. Maximum 8 in the circle \nIncluded are refreshments and homemade vegan soup and bread (GF options) for lunch but you are free to bring your own lunch if you prefer. \nTo book and purchase this retreat day please visit the shop.Purchase NowPurchase Now
URL:https://www.rosealchemy.com/event/2020-visioning-retreat-day-in-the-rosy-temple-2/
LOCATION:The Rosy Temple\, Brook\, New Forest SO43
ATTACH;FMTTYPE=image/jpeg:https://www.rosealchemy.com/wp-content/uploads/2019/10/Attachment-11.jpeg
END:VEVENT
BEGIN:VEVENT
DTSTART;TZID=UTC:20191207T100000
DTEND;TZID=UTC:20191207T170000
DTSTAMP:20260424T062035
CREATED:20191011T133739Z
LAST-MODIFIED:20191011T160211Z
UID:15408-1575712800-1575738000@www.rosealchemy.com
SUMMARY:Space Alchemy - Clearing and aligning your home for 2020 energies and new beginnings
DESCRIPTION:A magical day exploring the nature of the Spaces we call home and the energy that makes up the note that enables us to feel connected and nourished and ‘at home’ \nYou will have the opportunity to tune into your personal space from the high frequency energy of the Rosy Temple and explore through a new lens messages that your space may have to offer. What might your home reveal? Are you aware of the Heart of your Home? \nOur Inner Temple (our hearts) and our Outer Temple (our homes) are intimately connected and the calling at this time is to have high vibe clear and aligned space to support our journey to ultimate wellbeing on all levels. \nThe day will include sharing a protocol for reading the energy of your home and using the tools and techniques I have worked with for the past 20 years with hundred of clients. \nPerfect for creating great space for your home and life. \nIncluded are refreshments and a homemade warming vegan soup and bread ( gf catered for) \nTo book and purchase this day please visit the shop.Purchase NowPurchase Now
URL:https://www.rosealchemy.com/event/space-alchemy-clearing-and-aligning-your-home-for-2020-energies/
LOCATION:The Rosy Temple\, Brook\, New Forest SO43
ATTACH;FMTTYPE=image/jpeg:https://www.rosealchemy.com/wp-content/uploads/2018/01/IMG_88921-web.jpg
END:VEVENT
BEGIN:VEVENT
DTSTART;TZID=UTC:20191208T100000
DTEND;TZID=UTC:20191208T170000
DTSTAMP:20260424T062035
CREATED:20191011T134422Z
LAST-MODIFIED:20191011T134742Z
UID:15411-1575799200-1575824400@www.rosealchemy.com
SUMMARY:Space Alchemy - Creating Sanctuary for your Soul
DESCRIPTION:FENG SHUI\, ENERGY\, COLOUR\, ARTWORK\, STYLE\, CLUTTER!!… and so much more in your home subtly impacts on your energy for life. \nThe question is… Do you truly love and feel at home in your home? Does your home wrap its arms around you when you come through the door? Do you feel safe\, nourished\, inspired and energised to go out in the world to share your gifts? \nIn this workshop day we will dive deep into these aspects and how you can create and maintain a high frequency space which nourishes and supports you at both a physical\, aesthetic and a Soul level? \nWe will explore the elements which make up Sacred Space and how your space affects your immune and nervous systems. What are the best life enhancing placements for your bed\, sitting room and home office. The power of Altars\, colour and artwork to inspire and keep your inner alignment. How natural soft furnishings and finishings in your home all add to the connection with the natural world and the radiant Heart of your Home. \n \n \nYou can find out more about my work with Space Alchemy at www.SandyHumby.com \n \nI am a KLC London trained Interior Decorator and was a finalist in the Design Awards in London in 2003 and have a lifetimes love of interiors\, textiles and colour… I have been working specifically with the design and energy of spaces since 2000 incorporating true energetic Feng Shui and the high frequency Rose codes into my consultations. \nI was the co creator of the Art and Science of House Whispering for over 10 years from 2005 with Christian Kyriacou\, including active creative involvement in 2 pilot shows we made for prospective tv series on this subject. \nI am a natural homemaker and energy sensitive and a highly experienced self taught dowser. I have completed hundreds of successful life transforming consultations with clients in the UK\, Europe and Internationally. \nI am a regular member of the teaching faculty on the Space Clearing and Feng Shui programmes with the Conscious Design Institute in USA. \nTo book and purchase this day please visit the shop.Purchase NowPurchase Now
URL:https://www.rosealchemy.com/event/space-alchemy-creating-sanctuary-for-your-soul-2/
ATTACH;FMTTYPE=image/jpeg:https://www.rosealchemy.com/wp-content/uploads/2019/04/IMG_2985-web.jpg
END:VEVENT
BEGIN:VEVENT
DTSTART;TZID=UTC:20191218T190000
DTEND;TZID=UTC:20191218T210000
DTSTAMP:20260424T062035
CREATED:20191011T161823Z
LAST-MODIFIED:20191011T161823Z
UID:15417-1576695600-1576702800@www.rosealchemy.com
SUMMARY:Rose Sister Inner Circle - Christmas Gathering
DESCRIPTION:Christmas Celebration Circle in the Rosy Temple
URL:https://www.rosealchemy.com/event/rose-sister-inner-circle-christmas-gathering/
LOCATION:The Rosy Temple\, Brook\, New Forest SO43
ATTACH;FMTTYPE=image/jpeg:https://www.rosealchemy.com/wp-content/uploads/2018/08/rose-circle-web.jpg
END:VEVENT
END:VCALENDAR